BEGIN:VCALENDAR
PRODID:-//github.com/rianjs/ical.net//NONSGML ical.net 4.0//EN
VERSION:2.0
BEGIN:VEVENT
DESCRIPTION:Fahrrad-Demonstration für einen sicheren Radweg auf der Marien
 felder Allee.\nDer ADFC Tempelhof setzt sich zusammen mit weiteren Akteur
 en für sicheren Verkehr in Marienfelde ein.\nhttps://touren-termine.adfc.
 de/radveranstaltung/156951-wir-wollen-sicheren-verkehr-in-marienfelde
DTEND:20250303T173000Z
DTSTAMP:20260424T050424Z
DTSTART:20250303T160000Z
LOCATION:Marienfelder Allee/Ecke Stegerwaldstraße\, 12277 Berlin
SEQUENCE:0
SUMMARY:Wir wollen sicheren Verkehr in Marienfelde
UID:7ee1e92c-20d4-4692-8f2c-f099592b88e4
URL:https://touren-termine.adfc.de/radveranstaltung/156951-wir-wollen-sich
 eren-verkehr-in-marienfelde
END:VEVENT
END:VCALENDAR
