BEGIN:VCALENDAR
PRODID:-//github.com/rianjs/ical.net//NONSGML ical.net 4.0//EN
VERSION:2.0
BEGIN:VEVENT
DESCRIPTION:Kennenlerntour durch Stuttgarter Stadtteile\nhttps://touren-te
 rmine.adfc.de/radveranstaltung/102411-fahrradstadtteiltour-vaihingen
DTEND:20230729T140000Z
DTSTAMP:20260424T143909Z
DTSTART:20230729T120000Z
LOCATION:Bahnhof Vaihingen 1\, 70563 Stuttgart
SEQUENCE:0
SUMMARY:Fahrrad-Stadtteiltour Vaihingen
UID:6d2c1dfa-a53a-4296-bd65-4e8fae7d4c3b
URL:https://touren-termine.adfc.de/radveranstaltung/102411-fahrradstadttei
 ltour-vaihingen
END:VEVENT
END:VCALENDAR
