BEGIN:VCALENDAR
PRODID:-//github.com/rianjs/ical.net//NONSGML ical.net 4.0//EN
VERSION:2.0
BEGIN:VEVENT
DESCRIPTION:“Versprochen ist Versprochen – Planen statt Fällen”: Gemeinsam
  mit dem Baumentscheid Berlin demonstrieren wir für den Erhalt der Stadtb
 äume am Tempelhofer Damm!\nhttps://touren-termine.adfc.de/radveranstaltun
 g/158910-baume-erhalten-am-tdamm-demo-02032025
DTEND:20250302T140000Z
DTSTAMP:20260424T020509Z
DTSTART:20250302T130000Z
LOCATION:Tempelhofer Damm 101\, 12101 Berlin
SEQUENCE:0
SUMMARY:Bäume erhalten am T-Damm: Demo 02.03.2025
UID:259cc454-5003-4203-b790-90d7b99f2028
URL:https://touren-termine.adfc.de/radveranstaltung/158910-baume-erhalten-
 am-tdamm-demo-02032025
END:VEVENT
END:VCALENDAR
