BEGIN:VCALENDAR
PRODID:-//github.com/rianjs/ical.net//NONSGML ical.net 4.0//EN
VERSION:2.0
BEGIN:VEVENT
DESCRIPTION:Ab Hbf. Kempten eine interessante Tour in den Kempter Wald mit
  vielem Sehenswerten. Lasst Euch überraschen\, was es in der Heimat alles
  zu entdecken gibt. Herrliche Aussichten\, sehr hügelig\, m. Einkehr\nhtt
 ps://touren-termine.adfc.de/radveranstaltung/88891-kempter-waldrunde-mit-
 vielen-sehenswurdigkeiten
DTEND;VALUE=DATE:20230615
DTSTAMP:20260425T153736Z
DTSTART;VALUE=DATE:20230615
LOCATION:Bahnhofplatz\, 87435 Kempten (Allgäu)
SEQUENCE:0
SUMMARY:Kempter Waldrunde mit vielen Sehenswürdigkeiten
UID:20576dd3-b70a-4151-9af0-9cd0f659eaa3
URL:https://touren-termine.adfc.de/radveranstaltung/88891-kempter-waldrund
 e-mit-vielen-sehenswurdigkeiten
END:VEVENT
END:VCALENDAR
