BEGIN:VCALENDAR
PRODID:-//github.com/rianjs/ical.net//NONSGML ical.net 4.0//EN
VERSION:2.0
BEGIN:VEVENT
DESCRIPTION:Das ADFC NRW Frauennetzwerk trifft sich zu jährlichen Radtour 
 dieses Jahr in Bonn. Auch neue Frauen\, die neugierig auf das Netzwerk si
 nd\, sind herzlich willkommen!\nhttps://touren-termine.adfc.de/radveranst
 altung/136056-auf-nach-bonn-radtour-des-frauennetzwerk-nrw
DTEND:20240810T140000Z
DTSTAMP:20260421T103212Z
DTSTART:20240810T090000Z
LOCATION:Breite Straße 71\, 53111 Bonn
SEQUENCE:0
SUMMARY:Auf nach Bonn- Radtour des Frauennetzwerk NRW
UID:17e13c09-09f8-417e-a71b-96110baf1027
URL:https://touren-termine.adfc.de/radveranstaltung/136056-auf-nach-bonn-r
 adtour-des-frauennetzwerk-nrw
END:VEVENT
END:VCALENDAR
