BEGIN:VCALENDAR
PRODID:-//github.com/rianjs/ical.net//NONSGML ical.net 4.0//EN
VERSION:2.0
BEGIN:VEVENT
DESCRIPTION:VHS Kaufbeuren! Mit Komoot lassen sich Radtouren einfach und k
 omfortabel planen. Workshop für Laptop + Android-Smartphone.\nAnmeldung n
 ur direkt bei der VHS KF.\nhttps://touren-termine.adfc.de/radveranstaltun
 g/174134-vhs-kaufbeuren-komoot-grundkurs
DTEND:20260212T200000Z
DTSTAMP:20260419T155729Z
DTSTART:20260212T170000Z
LOCATION:Spitalhof\, Volkshochschule\, 87600 Kaufbeuren
SEQUENCE:0
SUMMARY:VHS Kaufbeuren - Komoot - Grundkurs
UID:00933a08-729d-4633-91b5-4fe19255647b
URL:https://touren-termine.adfc.de/radveranstaltung/174134-vhs-kaufbeuren-
 komoot-grundkurs
END:VEVENT
END:VCALENDAR
