BEGIN:VCALENDAR
PRODID:-//github.com/rianjs/ical.net//NONSGML ical.net 4.0//EN
VERSION:2.0
BEGIN:VEVENT
DESCRIPTION:Durch die Koberstadt geht es nach Kranichstein mit einer Rundf
 ahrt um das Schloss. Nach der Mittagspause in Salvo Restaurant in Trauthe
 im geht es über Messel zurück. Anmeldung notwendig.\nhttps://touren-termi
 ne.adfc.de/radveranstaltung/144564-durch-die-koberstadt-nach-traisa
DTEND:20250518T150000Z
DTSTAMP:20260423T192502Z
DTSTART:20250518T080000Z
LOCATION:Lindenplatz\, 63303 Sprendlingen
SEQUENCE:0
SUMMARY:Durch die Koberstadt nach Traisa
UID:2c6f5b97-1904-41cf-bbad-937c0e5d9048
URL:https://touren-termine.adfc.de/radveranstaltung/144564-durch-die-kober
 stadt-nach-traisa
END:VEVENT
END:VCALENDAR
