BEGIN:VCALENDAR
PRODID:-//github.com/rianjs/ical.net//NONSGML ical.net 4.0//EN
VERSION:2.0
BEGIN:VEVENT
DESCRIPTION:Wir treffen uns meist jeden 1. Donnerstag eines Monats (außer 
 August) um 19:00 Uhr im Gasthaus Belfort in Kaufbeuren\, Mindelheimer Str
 . 35. Fahrrad-Codierung möglich.\nhttps://touren-termine.adfc.de/radveran
 staltung/174103-adfcmitgliederversammlung-mit-neuwahlen
DTEND:20260305T200000Z
DTSTAMP:20260419T155836Z
DTSTART:20260305T180000Z
LOCATION:Gasthaus Belfort\, Mindelheimer Straße 35\, 87600 Kaufbeuren
SEQUENCE:0
SUMMARY:ADFC-Mitgliederversammlung mit Neuwahlen.
UID:2cbe15d0-0802-4d1d-aa2a-18beb8460a2f
URL:https://touren-termine.adfc.de/radveranstaltung/174103-adfcmitgliederv
 ersammlung-mit-neuwahlen
END:VEVENT
END:VCALENDAR
