BEGIN:VCALENDAR
PRODID:-//github.com/rianjs/ical.net//NONSGML ical.net 4.0//EN
VERSION:2.0
BEGIN:VEVENT
DESCRIPTION:Melsungen\, Beisetal\, Remsfeld\, Efzetal\, Grebenhagen\, Eise
 nberg\, Aua\, Pommer\, Ersrode\, Beisetal\, Melsungen.\nhttps://touren-te
 rmine.adfc.de/radveranstaltung/121836-eisenbergrunde
DTEND:20240901T160000Z
DTSTAMP:20260421T132024Z
DTSTART:20240901T080000Z
LOCATION:Brückenstraße 15\, 34212 Melsungen
SEQUENCE:0
SUMMARY:Eisenberg-Runde
UID:effcb1c9-dfa6-4609-a5b9-4f8ceae0f7bf
URL:https://touren-termine.adfc.de/radveranstaltung/121836-eisenbergrunde
END:VEVENT
END:VCALENDAR
