BEGIN:VCALENDAR
PRODID:-//github.com/rianjs/ical.net//NONSGML ical.net 4.0//EN
VERSION:2.0
BEGIN:VEVENT
DESCRIPTION:Wöchentliche freitags Radtouren der ADFC Ortsgruppe Hattingen\
 nhttps://touren-termine.adfc.de/radveranstaltung/190013-auf-ins-wochenend
 e
DTEND:20260417T160000Z
DTSTAMP:20260421T204223Z
DTSTART:20260417T130000Z
LOCATION:Parkplatz Holschentor\, Talstraße 8\, 45525 Hattingen
SEQUENCE:0
SUMMARY:Auf ins Wochenende
UID:d823dcb3-871b-4a6e-a59f-970ea6909efe
URL:https://touren-termine.adfc.de/radveranstaltung/190013-auf-ins-wochene
 nde
END:VEVENT
END:VCALENDAR
