BEGIN:VCALENDAR
PRODID:-//github.com/rianjs/ical.net//NONSGML ical.net 4.0//EN
VERSION:2.0
BEGIN:VEVENT
DESCRIPTION:Radfahrer*innen treffen sich anscheinend zufällig und unorgani
 siert.\nhttps://touren-termine.adfc.de/radveranstaltung/165154-critical-m
 ass-hamburg
DTEND:20250530T200000Z
DTSTAMP:20260420T231137Z
DTSTART:20250530T170000Z
LOCATION:Theodor-Heuss-Platz\, 20354 Hamburg
SEQUENCE:0
SUMMARY:Critical Mass Hamburg
UID:f722c0b7-bd64-4d60-99ff-2a985a278d8a
URL:https://touren-termine.adfc.de/radveranstaltung/165154-critical-mass-h
 amburg
END:VEVENT
END:VCALENDAR
