BEGIN:VCALENDAR
PRODID:-//github.com/rianjs/ical.net//NONSGML ical.net 4.0//EN
VERSION:2.0
BEGIN:VEVENT
DESCRIPTION:Die Notenrad-Tour am 7. September folgt Abschnitten der klassi
 schen Notenrad-Ostschleife mit Einblick ins Deutsche Musikarchiv der Nati
 onalbibliothek sowie Stationen Südfriedhof und Stadtgut Mölkau.\nhttps://
 touren-termine.adfc.de/radveranstaltung/152218-radtour-auf-der-notenrados
 tschleife
DTEND:20250907T140000Z
DTSTAMP:20260421T103217Z
DTSTART:20250907T090000Z
LOCATION:Basis-Stele der Leipziger Notenspur auf dem Augustusplatz vor dem
  Paulinum\, 04109 Leipzig
SEQUENCE:0
SUMMARY:Radtour auf der Notenrad-Ostschleife
UID:8f44129c-30df-447f-9d90-64f919103702
URL:https://touren-termine.adfc.de/radveranstaltung/152218-radtour-auf-der
 -notenradostschleife
END:VEVENT
END:VCALENDAR
