BEGIN:VCALENDAR
PRODID:-//github.com/rianjs/ical.net//NONSGML ical.net 4.0//EN
VERSION:2.0
BEGIN:VEVENT
DESCRIPTION:Grüne Gartenoasen prägen den Bezirk Marzahn-Hellersdorf. Bei i
 hrer Kieztour für Berliner:innen und Neuentdecker:innen besucht die ADFC 
 Stadtteilgruppe Wuhletal einige von ihnen.\nhttps://touren-termine.adfc.d
 e/radveranstaltung/164489-kieztour-garten-in-marzahn-und-hellersdorf
DTEND:20250504T150000Z
DTSTAMP:20260421T233105Z
DTSTART:20250504T120000Z
LOCATION:Freizeitforum Marzahn\, Marzahner Promenade\, 12679 Berlin
SEQUENCE:0
SUMMARY:Kieztour - Gärten in Marzahn und Hellersdorf
UID:8a35956c-e90f-4256-8f5d-a7d181ee3147
URL:https://touren-termine.adfc.de/radveranstaltung/164489-kieztour-garten
 -in-marzahn-und-hellersdorf
END:VEVENT
END:VCALENDAR
