BEGIN:VCALENDAR
PRODID:-//github.com/rianjs/ical.net//NONSGML ical.net 4.0//EN
VERSION:2.0
BEGIN:VEVENT
DESCRIPTION:ca. 40 km\, Start und Ziel Odenkichen Marktplatz\, 09.05.2026 
 16:15Uhr\, mit Einkehr in Biergarten\nhttps://touren-termine.adfc.de/radv
 eranstaltung/198020-gemutliche-samstagfeierabendtour-um-gladbach
DTEND:20260509T193000Z
DTSTAMP:20260424T230634Z
DTSTART:20260509T141500Z
LOCATION:Martin-Luther-Platz 1\, 41199 Mönchengladbach
SEQUENCE:0
SUMMARY:Gemütliche Samstag-Feierabendtour um Gladbach
UID:4ed5be81-f849-4162-b613-c094ba12f473
URL:https://touren-termine.adfc.de/radveranstaltung/198020-gemutliche-sams
 tagfeierabendtour-um-gladbach
END:VEVENT
END:VCALENDAR
