BEGIN:VCALENDAR
PRODID:-//github.com/rianjs/ical.net//NONSGML ical.net 4.0//EN
VERSION:2.0
BEGIN:VEVENT
DESCRIPTION:Die Verkehrswacht Mainz-Bingen bietet in Zusammenarbeit mit de
 r Stadt Mainz und dem FSV Mainz 05 auch dieses Jahr wieder Fahrsicherheit
 straining-Trainings für Fahrrad und Pedelec an.\nhttps://touren-termine.a
 dfc.de/radveranstaltung/125687-fahrsicherheitstrainings-fur-das-fahrrad-p
 edelec
DTEND:20240516T160000Z
DTSTAMP:20260421T160457Z
DTSTART:20240516T120000Z
LOCATION:MEWA-Arena\, Eugen-Salomon-Straße 1\, 55128 Mainz
SEQUENCE:0
SUMMARY:Fahrsicherheitstrainings für das Fahrrad / Pedelec
UID:3e380c1e-6435-45a4-984a-cd5e78342ef5
URL:https://touren-termine.adfc.de/radveranstaltung/125687-fahrsicherheits
 trainings-fur-das-fahrrad-pedelec
END:VEVENT
END:VCALENDAR
