BEGIN:VCALENDAR
PRODID:-//github.com/rianjs/ical.net//NONSGML ical.net 4.0//EN
VERSION:2.0
BEGIN:VEVENT
DESCRIPTION:Mitglieder hören Berichte aus Arbeitsgruppen\, besprechen weit
 ere Vorgehen und Aktivitäten\, tauschen Ideen aus – informativ\, zielorie
 ntiert und verbindend!\nhttps://touren-termine.adfc.de/radveranstaltung/1
 91766-adfc-aktiventreff
DTEND:20260917T183000Z
DTSTAMP:20260420T150125Z
DTSTART:20260917T163000Z
LOCATION:Alsenstraße 27\, 44789 Bochum
SEQUENCE:0
SUMMARY:ADFC Aktiventreff
UID:7636abca-7c30-44a5-b1b8-759803031467
URL:https://touren-termine.adfc.de/radveranstaltung/191766-adfc-aktiventre
 ff
END:VEVENT
END:VCALENDAR
