BEGIN:VCALENDAR
PRODID:-//github.com/rianjs/ical.net//NONSGML ical.net 4.0//EN
VERSION:2.0
BEGIN:VEVENT
DESCRIPTION:Aus organisatorischen Gründen wird die Nov & Dez VMT auf den 3
 0.11.24 verlegt. Nur ADFC Mitglieder\, mit Glühwein\, Bratwurst und guter
  Laune am Feuer.\nhttps://touren-termine.adfc.de/radveranstaltung/142638-
 vollmondtour
DTEND:20241130T220000Z
DTSTAMP:20260421T221239Z
DTSTART:20241130T170000Z
LOCATION:Herzogin-Eleonore-Allee / Am Teich im Französischen Garten\, 2922
 1 Celle
SEQUENCE:0
SUMMARY:Vollmondtour
UID:c2088947-0ca3-4644-b4ae-2fa30029b3ae
URL:https://touren-termine.adfc.de/radveranstaltung/142638-vollmondtour
END:VEVENT
END:VCALENDAR
