BEGIN:VCALENDAR
PRODID:-//github.com/rianjs/ical.net//NONSGML ical.net 4.0//EN
VERSION:2.0
BEGIN:VEVENT
DESCRIPTION:Kennenlerntour durch Stuttgarter Stadtteile\nhttps://touren-te
 rmine.adfc.de/radveranstaltung/129556-fahrradstadtteiltour-stuttgart-ost
DTEND:20240622T150000Z
DTSTAMP:20260424T114755Z
DTSTART:20240622T120000Z
LOCATION:Am Schwanenplatz\, 70190 Stuttgart
SEQUENCE:0
SUMMARY:Fahrrad-Stadtteiltour Stuttgart Ost
UID:e419998d-baaf-4539-a224-002b484a7e1d
URL:https://touren-termine.adfc.de/radveranstaltung/129556-fahrradstadttei
 ltour-stuttgart-ost
END:VEVENT
END:VCALENDAR
