BEGIN:VCALENDAR
PRODID:-//github.com/rianjs/ical.net//NONSGML ical.net 4.0//EN
VERSION:2.0
BEGIN:VEVENT
DESCRIPTION:41_km_Saisonabschluss_3-Seentour\nmit Einkehr im Gasthaus Wald
 kater\, Langenhagen\nhttps://touren-termine.adfc.de/radveranstaltung/1592
 81-halbtagstour-41-km-waldkater
DTEND:20250927T160000Z
DTSTAMP:20260423T105646Z
DTSTART:20250927T120000Z
LOCATION:Fuhrberger Straße 4\, 30938 Burgwedel
SEQUENCE:0
SUMMARY:Halbtagstour 41 km Waldkater
UID:d320c439-fd47-4e3d-bde3-3d695f42b86f
URL:https://touren-termine.adfc.de/radveranstaltung/159281-halbtagstour-41
 -km-waldkater
END:VEVENT
END:VCALENDAR
