BEGIN:VCALENDAR
PRODID:-//github.com/rianjs/ical.net//NONSGML ical.net 4.0//EN
VERSION:2.0
BEGIN:VEVENT
DESCRIPTION:offen für interessierte Mitglieder und Gäste\nhttps://touren-t
 ermine.adfc.de/radveranstaltung/147814-offene-vorstandssitzung-des-adfc-e
 ssen
DTEND:20250905T193000Z
DTSTAMP:20260421T102623Z
DTSTART:20250905T163000Z
LOCATION:Essen (Innenstadt)\, ADFC Essen Geschäftsstelle\, Rottstraße 5\, 
 45127 Essen
SEQUENCE:0
SUMMARY:Offene Vorstandssitzung des ADFC Essen
UID:0623f8bf-b623-4a13-bf09-a6512de9648e
URL:https://touren-termine.adfc.de/radveranstaltung/147814-offene-vorstand
 ssitzung-des-adfc-essen
END:VEVENT
END:VCALENDAR
