BEGIN:VCALENDAR
PRODID:-//github.com/rianjs/ical.net//NONSGML ical.net 4.0//EN
VERSION:2.0
BEGIN:VEVENT
DESCRIPTION:Der Radlertreff ist das Angebot an unsere Solinger Mitglieder 
 und ihre Freunde mit uns und interessanten Ansprechpartnern ins Gespräch 
 zu kommen.\nhttps://touren-termine.adfc.de/radveranstaltung/111835-radler
 treff-solingen-januar-2024
DTEND:20240123T200000Z
DTSTAMP:20260421T172616Z
DTSTART:20240123T183000Z
LOCATION:Locher Straße 17\, 42719 Solingen
SEQUENCE:0
SUMMARY:Radlertreff Solingen - Januar 2024
UID:816aacf3-7237-424e-8bf7-96d79d7ed17c
URL:https://touren-termine.adfc.de/radveranstaltung/111835-radlertreff-sol
 ingen-januar-2024
END:VEVENT
END:VCALENDAR
