BEGIN:VCALENDAR
PRODID:-//github.com/rianjs/ical.net//NONSGML ical.net 4.0//EN
VERSION:2.0
BEGIN:VEVENT
DESCRIPTION:Radfahren macht Spaß und Kinder und Jugendliche sollen sich se
 lbstständig und sicher in Essen bewegen können.\nhttps://touren-termine.a
 dfc.de/radveranstaltung/105905-kidical-mass-essen-werden
DTEND:20230923T140000Z
DTSTAMP:20260419T181925Z
DTSTART:20230923T120000Z
LOCATION:Parkplatz Kastellplatz Werden\, 45239 Essen
SEQUENCE:0
SUMMARY:Kidical Mass Essen Werden
UID:89f8e6dd-7764-4963-976f-82828ad7b128
URL:https://touren-termine.adfc.de/radveranstaltung/105905-kidical-mass-es
 sen-werden
END:VEVENT
END:VCALENDAR
