BEGIN:VCALENDAR
PRODID:-//github.com/rianjs/ical.net//NONSGML ical.net 4.0//EN
VERSION:2.0
BEGIN:VEVENT
DESCRIPTION:Radtour von Schorndorf in einem großen Bogen über Adelberg\, L
 orch und Breitenfürst nach Urbach\nhttps://touren-termine.adfc.de/radvera
 nstaltung/109445-von-schorndorf-nach-urbach
DTEND:20231230T160000Z
DTSTAMP:20260424T144246Z
DTSTART:20231230T081500Z
LOCATION:Kegelenstraße 12\, 70372 Stuttgart
SEQUENCE:0
SUMMARY:Von Schorndorf nach Urbach
UID:77ead382-749e-4f2d-bc6d-e3c4638d9f6c
URL:https://touren-termine.adfc.de/radveranstaltung/109445-von-schorndorf-
 nach-urbach
END:VEVENT
END:VCALENDAR
