BEGIN:VCALENDAR
PRODID:-//github.com/rianjs/ical.net//NONSGML ical.net 4.0//EN
VERSION:2.0
BEGIN:VEVENT
DESCRIPTION:Auf dem Holländerrundweg von Oranienburg zum Stadthafen nach L
 iebenwalde und zurück\nhttps://touren-termine.adfc.de/radveranstaltung/15
 9201-fruhlingstour-nach-liebenwalde
DTEND:20250322T150000Z
DTSTAMP:20260425T232422Z
DTSTART:20250322T090000Z
LOCATION:Bahnhof\, 16515 Oranienburg
SEQUENCE:0
SUMMARY:Frühlingstour nach Liebenwalde
UID:cb8fa35d-741d-4106-a6dc-ec3ab044c226
URL:https://touren-termine.adfc.de/radveranstaltung/159201-fruhlingstour-n
 ach-liebenwalde
END:VEVENT
END:VCALENDAR
