BEGIN:VCALENDAR
PRODID:-//github.com/rianjs/ical.net//NONSGML ical.net 4.0//EN
VERSION:2.0
BEGIN:VEVENT
DESCRIPTION:Tagestour Augsburg UNESCO Wassermanagement. Eine gemütliche Ra
 dtour durch Augsburg mit Besichtigung von 11 der von der UNESCO ausgezeic
 hneten Bauwerke. An- und Rückreise mit DB. Anmeld. bis 31.03.24\nhttps://
 touren-termine.adfc.de/radveranstaltung/115489-thementour-augsburg-unesco
 -wassermanagement-voll
DTEND;VALUE=DATE:20240407
DTSTAMP:20260419T155556Z
DTSTART;VALUE=DATE:20240407
LOCATION:Bahnhofsvorplatz Kaufbeuren\, 87600 Kaufbeuren
SEQUENCE:0
SUMMARY:Thementour "Augsburg UNESCO Wassermanagement" voll
UID:2d1deb56-f651-41a3-a699-346f17c71853
URL:https://touren-termine.adfc.de/radveranstaltung/115489-thementour-augs
 burg-unesco-wassermanagement-voll
END:VEVENT
END:VCALENDAR
