BEGIN:VCALENDAR
PRODID:-//github.com/rianjs/ical.net//NONSGML ical.net 4.0//EN
VERSION:2.0
BEGIN:VEVENT
DESCRIPTION:Der Deisterkreisel ist eine 85 Kilometer lange Strecke\, die u
 m den bewaldeten Höhenzug Deister führt.\nhttps://touren-termine.adfc.de/
 radveranstaltung/162463-der-deisterkreisel
DTEND:20250726T170000Z
DTSTAMP:20260422T202957Z
DTSTART:20250726T054500Z
LOCATION:Bundesbahnhof 12\, 32423 Minden
SEQUENCE:0
SUMMARY:Der Deisterkreisel
UID:df9a83fa-a28b-43dd-ad5d-1e961254985f
URL:https://touren-termine.adfc.de/radveranstaltung/162463-der-deisterkrei
 sel
END:VEVENT
END:VCALENDAR
