BEGIN:VCALENDAR
PRODID:-//github.com/rianjs/ical.net//NONSGML ical.net 4.0//EN
VERSION:2.0
BEGIN:VEVENT
DESCRIPTION:Wir starten bis Anfang September alle 14 Tage abwechselnd am D
 ienstag oder am Donnerstag um 18 Uhr vor dem Badlantic (Reeshoop 60) zu e
 iner Radtour in die Natur rund um Ahrensburg.\nhttps://touren-termine.adf
 c.de/radveranstaltung/148575-die-3-feierabendtour-der-ortsgruppe-ahrensbu
 rg
DTEND:20250429T180000Z
DTSTAMP:20260424T045913Z
DTSTART:20250429T160000Z
LOCATION:Reeshoop 60\, vor dem Badlantic\, 22926 Ahrensburg
SEQUENCE:0
SUMMARY:Die 3. Feierabendtour der Ortsgruppe Ahrensburg
UID:edefe12a-b872-4d82-a76e-8cbafc03bee6
URL:https://touren-termine.adfc.de/radveranstaltung/148575-die-3-feieraben
 dtour-der-ortsgruppe-ahrensburg
END:VEVENT
END:VCALENDAR
