BEGIN:VCALENDAR
PRODID:-//github.com/rianjs/ical.net//NONSGML ical.net 4.0//EN
VERSION:2.0
BEGIN:VEVENT
DESCRIPTION:30 km lange Rundtour in die Umgebung von Oranienburg\nhttps://
 touren-termine.adfc.de/radveranstaltung/172304-feierabendtour
DTEND:20250925T180000Z
DTSTAMP:20260425T231913Z
DTSTART:20250925T150000Z
LOCATION:Bahnhof\, 16515 Oranienburg
SEQUENCE:0
SUMMARY:Feierabendtour
UID:c5c0ac19-b51a-4e31-802d-dbd50045e861
URL:https://touren-termine.adfc.de/radveranstaltung/172304-feierabendtour
END:VEVENT
END:VCALENDAR
