BEGIN:VCALENDAR
PRODID:-//github.com/rianjs/ical.net//NONSGML ical.net 4.0//EN
VERSION:2.0
BEGIN:VEVENT
DESCRIPTION:Dafür Ehrung der Burgwedeler Stadtradler am/im Rathaus\nhttps:
 //touren-termine.adfc.de/radveranstaltung/127699-kurztour-fallt-aus
DTEND:20250910T160000Z
DTSTAMP:20260423T183751Z
DTSTART:20250910T150000Z
LOCATION:Fuhrberger Straße\, 30938 Burgwedel
SEQUENCE:0
SUMMARY:Kurztour fällt aus
UID:e7ba85bb-ea08-488f-bac9-7bb789abc17a
URL:https://touren-termine.adfc.de/radveranstaltung/127699-kurztour-fallt-
 aus
END:VEVENT
END:VCALENDAR
