BEGIN:VCALENDAR
PRODID:-//github.com/rianjs/ical.net//NONSGML ical.net 4.0//EN
VERSION:2.0
BEGIN:VEVENT
DESCRIPTION:Eine sportliche Tour zum polnischen Nachbarn. Vom Finowkanal z
 u den Cedynia-Karpaten mit der blühenden Heidelandschaft. Weitere Highlig
 hts sind die Europabrücke\, das Schiffshebewerk\, das Oderbruch.\nhttps:/
 /touren-termine.adfc.de/radveranstaltung/169885-grenzgangertour-cedynia-h
 eidelandschaft
DTEND:20250906T170000Z
DTSTAMP:20260424T173204Z
DTSTART:20250906T051000Z
LOCATION:Bhf. Berlin Südkreuz\, Ringbahnsteig\, 10829 Berlin
SEQUENCE:0
SUMMARY:Grenzgängertour - Cedynia Heidelandschaft
UID:1c063c42-bab9-40e9-99df-39e535ab37ed
URL:https://touren-termine.adfc.de/radveranstaltung/169885-grenzgangertour
 -cedynia-heidelandschaft
END:VEVENT
END:VCALENDAR
