BEGIN:VCALENDAR
PRODID:-//github.com/rianjs/ical.net//NONSGML ical.net 4.0//EN
VERSION:2.0
BEGIN:VEVENT
DESCRIPTION:wöchentliche Kurztour\, stets am Mittwoch 18.oo\, 30 - 40 km\n
 https://touren-termine.adfc.de/radveranstaltung/142572-kurztour
DTEND:20250402T180000Z
DTSTAMP:20260423T105637Z
DTSTART:20250402T160000Z
LOCATION:Fuhrberger Straße\, 30938 Burgwedel
SEQUENCE:0
SUMMARY:Kurztour
UID:8fb93b64-1f37-4185-9edc-5f1a40df2dc8
URL:https://touren-termine.adfc.de/radveranstaltung/142572-kurztour
END:VEVENT
END:VCALENDAR
