BEGIN:VCALENDAR
PRODID:-//github.com/rianjs/ical.net//NONSGML ical.net 4.0//EN
VERSION:2.0
BEGIN:VEVENT
DESCRIPTION:ADFC-Fahrradcodierung in der Geschäftsstelle\nhttps://touren-t
 ermine.adfc.de/radveranstaltung/146015-fahrradcodierung-adfc-leverkusen
DTEND:20251117T130000Z
DTSTAMP:20260419T155800Z
DTSTART:20251117T100000Z
LOCATION:ADFC-Geschäftsstelle\, Freiherr-vom-Stein-Straße 5a\, 51379 Lever
 kusen
SEQUENCE:0
SUMMARY:Fahrradcodierung ADFC Leverkusen
UID:74082309-e8a0-4f5e-bf88-48c58fb0d0c4
URL:https://touren-termine.adfc.de/radveranstaltung/146015-fahrradcodierun
 g-adfc-leverkusen
END:VEVENT
END:VCALENDAR
