BEGIN:VCALENDAR
PRODID:-//github.com/rianjs/ical.net//NONSGML ical.net 4.0//EN
VERSION:2.0
BEGIN:VEVENT
DESCRIPTION:Auf Feld und Schotterwegen und abseits der großen Straßen durc
 h Hamburgs Nordosten zum und durch das Naturschutzgebiet Höltigbaum.\nhtt
 ps://touren-termine.adfc.de/radveranstaltung/168022-leichte-graveltour-zu
 m-holtigbaum
DTEND:20250719T150000Z
DTSTAMP:20260422T083701Z
DTSTART:20250719T110000Z
LOCATION:Christuskirche Wandsbek\, Wandsbeker Markt\, 22041 Hamburg\, Wand
 sbek
SEQUENCE:0
SUMMARY:Leichte Graveltour zum Höltigbaum
UID:7959dbdf-6dcb-40d3-80ae-a662ad8941a9
URL:https://touren-termine.adfc.de/radveranstaltung/168022-leichte-gravelt
 our-zum-holtigbaum
END:VEVENT
END:VCALENDAR
