BEGIN:VCALENDAR
PRODID:-//github.com/rianjs/ical.net//NONSGML ical.net 4.0//EN
VERSION:2.0
BEGIN:VEVENT
DESCRIPTION:Radwende & ADFC Bochum rufen zur Fahrraddemo. Radfahren bleibt
  oft gefährlich\, besonders für Kinder und unsichere Radfahrer:innen\nhtt
 ps://touren-termine.adfc.de/radveranstaltung/170993-fahrraddemo-und-podiu
 msdiskussion
DTEND:20250906T100000Z
DTSTAMP:20260420T150104Z
DTSTART:20250906T090000Z
LOCATION:Hans-Schalla-Platz\, 44789 Bochum
SEQUENCE:0
SUMMARY:Fahrraddemo und Podiumsdiskussion
UID:894a4fa4-c680-4dfc-a40d-9ac70b62cad5
URL:https://touren-termine.adfc.de/radveranstaltung/170993-fahrraddemo-und
 -podiumsdiskussion
END:VEVENT
END:VCALENDAR
