BEGIN:VCALENDAR
PRODID:-//github.com/rianjs/ical.net//NONSGML ical.net 4.0//EN
VERSION:2.0
BEGIN:VEVENT
DESCRIPTION:Eine kurze Wintertour\nhttps://touren-termine.adfc.de/radveran
 staltung/187455-sonntags-quicky-laubachquelle
DTEND:20270124T120000Z
DTSTAMP:20260422T210753Z
DTSTART:20270124T090000Z
LOCATION:Caritas-Begegnungsstätte\, Gerberstraße 7\, 40699 Erkrath
SEQUENCE:0
SUMMARY:Sonntags Quicky - Laubachquelle
UID:0678250e-d698-4d03-807a-23d834fc68a3
URL:https://touren-termine.adfc.de/radveranstaltung/187455-sonntags-quicky
 -laubachquelle
END:VEVENT
END:VCALENDAR
