BEGIN:VCALENDAR
PRODID:-//github.com/rianjs/ical.net//NONSGML ical.net 4.0//EN
VERSION:2.0
BEGIN:VEVENT
DESCRIPTION:Fellbacher Fahrradfrühling 2025: der ADFC ist mit einem Infost
 and vertreten und ihr Fahrrad kann codiert werden\nhttps://touren-termine
 .adfc.de/radveranstaltung/160817-fahrradcodierung-beim-fellbacher-fahrrad
 fruhling
DTEND:20250405T140000Z
DTSTAMP:20260423T053546Z
DTSTART:20250405T080000Z
LOCATION:Marktplatz 1\, 70734 Fellbach
SEQUENCE:0
SUMMARY:Fahrrad-Codierung beim Fellbacher Fahrradfrühling
UID:ef020896-05cd-456f-9d99-88b397427a5d
URL:https://touren-termine.adfc.de/radveranstaltung/160817-fahrradcodierun
 g-beim-fellbacher-fahrradfruhling
END:VEVENT
END:VCALENDAR
