BEGIN:VCALENDAR
PRODID:-//github.com/rianjs/ical.net//NONSGML ical.net 4.0//EN
VERSION:2.0
BEGIN:VEVENT
DESCRIPTION:Hügelige Feierabendrunde Richtung Kreuzholzhausern und Puchsch
 lagen\nhttps://touren-termine.adfc.de/radveranstaltung/161329-bergblickru
 nde
DTEND:20250903T180000Z
DTSTAMP:20260421T100629Z
DTSTART:20250903T160000Z
LOCATION:Bike & Ride Fahrradparkhaus\, 85221 Dachau
SEQUENCE:0
SUMMARY:Bergblickrunde
UID:d7639aa8-91c4-4895-bca4-933db0e0c3ea
URL:https://touren-termine.adfc.de/radveranstaltung/161329-bergblickrunde
END:VEVENT
END:VCALENDAR
