BEGIN:VCALENDAR
PRODID:-//github.com/rianjs/ical.net//NONSGML ical.net 4.0//EN
VERSION:2.0
BEGIN:VEVENT
DESCRIPTION:Lernt mit uns die Freiheit des Fahrradfahrens kennen. Gemeinsa
 m üben wir das Fahren und Bremsen und die Verkehrsregeln. - Details und A
 nmeldung für 11-13 Uhr o. 13:30-15:30 Uhr - siehe Beschreibung\nhttps://t
 ouren-termine.adfc.de/radveranstaltung/143529-frauenfahrradschule-mit-spa
 ss-radfahren-lernen
DTEND:20250426T133000Z
DTSTAMP:20260424T050122Z
DTSTART:20250426T090000Z
LOCATION:Jugendverkehrsschule\, Baikalstraße 4\, 10319 Berlin
SEQUENCE:0
SUMMARY:FrauenFahrradSchule: mit Spaß Radfahren lernen
UID:b42483b8-9a1f-4fa5-9c01-20d0f06b537d
URL:https://touren-termine.adfc.de/radveranstaltung/143529-frauenfahrradsc
 hule-mit-spass-radfahren-lernen
END:VEVENT
END:VCALENDAR
