BEGIN:VCALENDAR
PRODID:-//github.com/rianjs/ical.net//NONSGML ical.net 4.0//EN
VERSION:2.0
BEGIN:VEVENT
DESCRIPTION:Wir treffen uns meist jeden 1. Donnerstag eines Monats (außer 
 August) um 19:00 Uhr im Gasthaus Belfort in Kaufbeuren\, Mindelheimer Str
 . 35. Fahrrad-Codierung möglich.\nhttps://touren-termine.adfc.de/radveran
 staltung/174102-adfc-radlerstammtisch
DTEND:20260205T200000Z
DTSTAMP:20260419T160042Z
DTSTART:20260205T180000Z
LOCATION:Gasthaus Belfort\, Mindelheimer Straße 35\, 87600 Kaufbeuren
SEQUENCE:0
SUMMARY:ADFC Radler-Stammtisch
UID:89d68683-97d3-4ff4-9fe2-a13a3d6c41bf
URL:https://touren-termine.adfc.de/radveranstaltung/174102-adfc-radlerstam
 mtisch
END:VEVENT
END:VCALENDAR
