BEGIN:VCALENDAR
PRODID:-//github.com/rianjs/ical.net//NONSGML ical.net 4.0//EN
VERSION:2.0
BEGIN:VEVENT
DESCRIPTION:Über Fahrradstrecken\, kleine Straßen und Waldwege zum Schwimm
 en an der Lister.  Auf der Rückfahrt Einkehr in Waukemicke geplant.\nAnme
 ldung bis Mittwoch\,06.09.23  12.00 wegen Teilnehmerbegrenzung .\nhttps:/
 /touren-termine.adfc.de/radveranstaltung/106397-ebiketour-von-kreuztal-an
 -die-lister
DTEND:20230908T180000Z
DTSTAMP:20260422T234653Z
DTSTART:20230908T080000Z
LOCATION:Marburger Straße\, 57223 Kreuztal
SEQUENCE:0
SUMMARY:E-Biketour von Kreuztal an die Lister
UID:5522eb6f-c45d-4951-9f4d-1359dc24c2c9
URL:https://touren-termine.adfc.de/radveranstaltung/106397-ebiketour-von-k
 reuztal-an-die-lister
END:VEVENT
END:VCALENDAR
