BEGIN:VCALENDAR
PRODID:-//github.com/rianjs/ical.net//NONSGML ical.net 4.0//EN
VERSION:2.0
BEGIN:VEVENT
DESCRIPTION:Schöne Fahrradtour rund um das Lausitzer Seengebiet mit Besich
 tigung eines Tagebaus.\nhttps://touren-termine.adfc.de/radveranstaltung/1
 67630-wasser-und-kohle-tour-durch-die-lausitz
DTEND:20250718T160000Z
DTSTAMP:20260424T143838Z
DTSTART:20250718T064000Z
LOCATION:Bhf. Berlin Friedrichstraße\, DB Reisezentrum\, 10117 Berlin
SEQUENCE:0
SUMMARY:Wasser und Kohle - Tour durch die Lausitz
UID:9bef92f9-bdbd-43d4-b6f4-fb528660ba1f
URL:https://touren-termine.adfc.de/radveranstaltung/167630-wasser-und-kohl
 e-tour-durch-die-lausitz
END:VEVENT
END:VCALENDAR
