BEGIN:VCALENDAR
PRODID:-//github.com/rianjs/ical.net//NONSGML ical.net 4.0//EN
VERSION:2.0
BEGIN:VEVENT
DESCRIPTION:Loxstedt hautnah per Rad erleben und Mobilität neu erleben.\nh
 ttps://touren-termine.adfc.de/radveranstaltung/112217-stadtradeln-in-loxs
 tedt-auftakttour
DTEND:20240518T140000Z
DTSTAMP:20260421T022703Z
DTSTART:20240518T120000Z
LOCATION:Am Wedenberg 10\, 27612 Loxstedt
SEQUENCE:0
SUMMARY:Stadtradeln in Loxstedt - Auftakttour
UID:4619d956-ac5f-4440-be1b-5f7fdaf0494b
URL:https://touren-termine.adfc.de/radveranstaltung/112217-stadtradeln-in-
 loxstedt-auftakttour
END:VEVENT
END:VCALENDAR
