BEGIN:VCALENDAR
PRODID:-//github.com/rianjs/ical.net//NONSGML ical.net 4.0//EN
VERSION:2.0
BEGIN:VEVENT
DESCRIPTION:Herzliche Einladung zum "Anradeln"! Die Schöneberger Hauptstra
 ße hat jetzt ihren eigenen\, geschützten Radweg: sicherer\, moderner und 
 lebenswerter für alle Radfahrenden!\nhttps://touren-termine.adfc.de/radve
 ranstaltung/140945-151024-um-17-uhr-eroffnung-radweg-hauptstrasse
DTEND:20241015T160000Z
DTSTAMP:20260424T020331Z
DTSTART:20241015T150000Z
LOCATION:Hauptstraße/Ecke Grunewaldstraße\, 10827 Berlin
SEQUENCE:0
SUMMARY:15.10.24 um 17 Uhr: Eröffnung Radweg Hauptstraße
UID:32b889fd-cc65-4d5d-b30c-018ef71a6294
URL:https://touren-termine.adfc.de/radveranstaltung/140945-151024-um-17-uh
 r-eroffnung-radweg-hauptstrasse
END:VEVENT
END:VCALENDAR
