BEGIN:VCALENDAR
PRODID:-//github.com/rianjs/ical.net//NONSGML ical.net 4.0//EN
VERSION:2.0
BEGIN:VEVENT
DESCRIPTION:Kaufbeuren - In diesem Fahrsicherheitskurs vermitteln wir Dir 
 alle Grundlagen\, die für das Fahren im leichten Gelände\, besonders auf 
 losen Untergrund notwendig sind. Anmeldeschluss: Mi 03.04.2024.\nhttps://
 touren-termine.adfc.de/radveranstaltung/114834-mit-dem-ebike-im-leichten-
 gelande-in-kf-voll
DTEND:20240413T160000Z
DTSTAMP:20260419T155628Z
DTSTART:20240413T120000Z
LOCATION:Buronstraße\, 87600 Kaufbeuren
SEQUENCE:0
SUMMARY:Mit dem E-Bike im leichten Gelände - in KF voll
UID:5d00578e-1aba-48d3-8f2e-d8f22610e9af
URL:https://touren-termine.adfc.de/radveranstaltung/114834-mit-dem-ebike-i
 m-leichten-gelande-in-kf-voll
END:VEVENT
END:VCALENDAR
