BEGIN:VCALENDAR
PRODID:-//github.com/rianjs/ical.net//NONSGML ical.net 4.0//EN
VERSION:2.0
BEGIN:VEVENT
DESCRIPTION:Die Mitgliederversammlung 2025 steht an mit Bericht des Vorsta
 ndes\, Aus- und Rückblick.\nhttps://touren-termine.adfc.de/radveranstaltu
 ng/161752-mitgliederversammlung-2025
DTEND:20250602T190000Z
DTSTAMP:20260421T172933Z
DTSTART:20250602T170000Z
LOCATION:Bürgerbahnhof Wuppertal-Vohwinkel\, 42327 Wuppertal
SEQUENCE:0
SUMMARY:Mitgliederversammlung 2025
UID:78ca13aa-7a1c-469f-8855-7f9b4e420ce3
URL:https://touren-termine.adfc.de/radveranstaltung/161752-mitgliederversa
 mmlung-2025
END:VEVENT
END:VCALENDAR
