BEGIN:VCALENDAR
PRODID:-//github.com/rianjs/ical.net//NONSGML ical.net 4.0//EN
VERSION:2.0
BEGIN:VEVENT
DESCRIPTION:Zur Sommersonnenwende am längsten Tag des Jahres nach Halde Ho
 heward mit Obelisk und Sonnenuhr.\nhttps://touren-termine.adfc.de/radvera
 nstaltung/190868-sommersonnenwende-auf-hoheward
DTEND:20260621T160000Z
DTSTAMP:20260421T190541Z
DTSTART:20260621T080000Z
LOCATION:Parkplatz Holschentor\, Talstraße 8\, 45525 Hattingen
SEQUENCE:0
SUMMARY:Sommersonnenwende auf Hoheward
UID:235bc328-ec1c-49b6-a1e0-15961dbf487c
URL:https://touren-termine.adfc.de/radveranstaltung/190868-sommersonnenwen
 de-auf-hoheward
END:VEVENT
END:VCALENDAR
