BEGIN:VCALENDAR
PRODID:-//github.com/rianjs/ical.net//NONSGML ical.net 4.0//EN
VERSION:2.0
BEGIN:VEVENT
DESCRIPTION:Die neu gegründete Frauengruppe im ADFC Stuttgart trifft sich 
 regelmäßig unter dem Motto "Keine fährt alleine" und lädt alle interessie
 rten Frauen zum Mitmachen ein.\nhttps://touren-termine.adfc.de/radveranst
 altung/131363-adfc-frauengruppe-goes-afterwork
DTEND:20240515T200000Z
DTSTAMP:20260424T115013Z
DTSTART:20240515T163000Z
LOCATION:Silberburgstraße 84\, 70176 Stuttgart
SEQUENCE:0
SUMMARY:ADFC Frauengruppe goes AfterWork
UID:5c76b9e0-3b6d-49be-8ae8-d615299d984f
URL:https://touren-termine.adfc.de/radveranstaltung/131363-adfc-frauengrup
 pe-goes-afterwork
END:VEVENT
END:VCALENDAR
