BEGIN:VCALENDAR
PRODID:-//github.com/rianjs/ical.net//NONSGML ical.net 4.0//EN
VERSION:2.0
BEGIN:VEVENT
DESCRIPTION:Auch in 2026 beteiligt sich die Stadt Gelsenkirchen am Stadtra
 deln. Es wird am 1. Samstag im Mai begonnen. Unser Team heißt „ADFC-Mit d
 em Rad für eine bessere Stadt“\nhttps://touren-termine.adfc.de/radveranst
 altung/197318-stadtradeln-2026
DTEND;VALUE=DATE:20260508
DTSTAMP:20260423T191944Z
DTSTART;VALUE=DATE:20260508
LOCATION:überall mit dem ADFC Gelsenkirchen\, Hertastraße 22\, 45888 Gelse
 nkirchen
SEQUENCE:0
SUMMARY:Stadtradeln 2026
UID:4979ebec-1fdc-4a00-9c59-4455e19da5e7
URL:https://touren-termine.adfc.de/radveranstaltung/197318-stadtradeln-2026
END:VEVENT
END:VCALENDAR
