BEGIN:VCALENDAR
PRODID:-//github.com/rianjs/ical.net//NONSGML ical.net 4.0//EN
VERSION:2.0
BEGIN:VEVENT
DESCRIPTION:Gemütliche Feierabendtour ab Haßloch\nhttps://touren-termine.a
 dfc.de/radveranstaltung/181665-gemutliche-feierabendtour-ab-hassloch
DTEND:20260806T190000Z
DTSTAMP:20260425T172850Z
DTSTART:20260806T160000Z
LOCATION:Rathausplatz\, 67454 Haßloch
SEQUENCE:0
SUMMARY:Gemütliche Feierabendtour ab Haßloch
UID:48688c59-45b4-471e-a6a1-64ebbb08a81b
URL:https://touren-termine.adfc.de/radveranstaltung/181665-gemutliche-feie
 rabendtour-ab-hassloch
END:VEVENT
END:VCALENDAR
