BEGIN:VCALENDAR
PRODID:-//github.com/rianjs/ical.net//NONSGML ical.net 4.0//EN
VERSION:2.0
BEGIN:VEVENT
DESCRIPTION:Wir treffen uns meist jeden 1. Donnerstag eines Monats (außer 
 August) um 19:00 Uhr im Gasthaus Belfort in Kaufbeuren\, Mindelheimer Str
 . 35. Fahrrad-Codierung möglich.\nhttps://touren-termine.adfc.de/radveran
 staltung/174112-adfc-radlerstammtisch
DTEND:20261203T200000Z
DTSTAMP:20260419T155629Z
DTSTART:20261203T180000Z
LOCATION:Gasthaus Belfort\, Mindelheimer Straße 35\, 87600 Kaufbeuren
SEQUENCE:0
SUMMARY:ADFC Radler-Stammtisch
UID:f9ffb163-ed1b-4b28-86e0-5777d9ca93bd
URL:https://touren-termine.adfc.de/radveranstaltung/174112-adfc-radlerstam
 mtisch
END:VEVENT
END:VCALENDAR
